BEGIN:VCALENDAR
VERSION:2.0
PRODID:-//ICEJ Australia - ECPv6.15.20//NONSGML v1.0//EN
CALSCALE:GREGORIAN
METHOD:PUBLISH
X-ORIGINAL-URL:https://icej.org.au
X-WR-CALDESC:Events for ICEJ Australia
REFRESH-INTERVAL;VALUE=DURATION:PT1H
X-Robots-Tag:noindex
X-PUBLISHED-TTL:PT1H
BEGIN:VTIMEZONE
TZID:Asia/Jerusalem
BEGIN:DAYLIGHT
TZOFFSETFROM:+0200
TZOFFSETTO:+0300
TZNAME:IDT
DTSTART:20250328T000000
END:DAYLIGHT
BEGIN:STANDARD
TZOFFSETFROM:+0300
TZOFFSETTO:+0200
TZNAME:IST
DTSTART:20251025T230000
END:STANDARD
BEGIN:DAYLIGHT
TZOFFSETFROM:+0200
TZOFFSETTO:+0300
TZNAME:IDT
DTSTART:20260327T000000
END:DAYLIGHT
BEGIN:STANDARD
TZOFFSETFROM:+0300
TZOFFSETTO:+0200
TZNAME:IST
DTSTART:20261024T230000
END:STANDARD
BEGIN:DAYLIGHT
TZOFFSETFROM:+0200
TZOFFSETTO:+0300
TZNAME:IDT
DTSTART:20270326T000000
END:DAYLIGHT
BEGIN:STANDARD
TZOFFSETFROM:+0300
TZOFFSETTO:+0200
TZNAME:IST
DTSTART:20271030T230000
END:STANDARD
END:VTIMEZONE
BEGIN:VEVENT
DTSTART;TZID=Asia/Jerusalem:20260427T000000
DTEND;TZID=Asia/Jerusalem:20260429T235900
DTSTAMP:20260420T162030
CREATED:20251222T003630Z
LAST-MODIFIED:20260224T235739Z
UID:9187-1777248000-1777507140@icej.org.au
SUMMARY:Envision - 2026 ASIA [Registration Closed]
DESCRIPTION:Envision – 2026 ASIA [Registration Closed]\nCLICK HERE FOR DETAILS\nCome join Pastors and Christian leaders from Asia Pacific for the dynamic\, ICEJ ENVISION LEADERSHIP CONFERENCE\, in Batam\, Indonesia. Held under the timely theme: “Israel and Your Church.” On 27th -29th April 2026. \nIn light of the troubling surge of antisemitism worldwide\, it is more vital than ever for Christian pastors and ministry leaders to deepen their understanding of Israel’s biblical and prophetic significance in our day. Envision 2026 offers a unique opportunity to engage these pressing realities with clarity\, conviction\, and compassion. \nThis is a special gathering of pastors\, christian ministry and marketplace leaders from across Asia Pacific to be inspired\, equipped\, and connected for greater impact in this generation. We will come together for vibrant worship and biblical teaching by seasoned international and regional speakers. This event will provide insights on what God is doing in Israel and the nations and how to be aligned with His purposes. \nEnvision Asia is more than just a conference – it is a movement to build connections with the global Body of Christ\, refresh leaders with renewed vision\, and equip them to advance God’s work in our cities and nations. \nHighlights include:  \n\nConnect & Collaborate; fellowship\, worship and pray with like-minded church and ministry leaders across Asia.\nEngage & Discuss; with meaningful discussions on how to face challenges and opportunities in ministry across Asia\nHear & Discern; from seasoned Christian leaders on how to understand the time and give direction to the Church in today’s world.\nLearn & Apply; practical insights and biblical principles for serving cities and nations with wisdom and effectiveness. \n\nPrayerfully consider joining us to Be ENRICHED\, ENVISIONED\, AND EMPOWERED! Early bird finishes on the 20thof December 2025. Please secure your spot at these very affordable $AUD prices from approximately $420 per person for twin sharing\, or $580 per person for a single bed in 1 room for the full early bird package. Find out more here: https://www.envision2026.id/globalsite  Please call our office for any questions. \nCLICK HERE FOR DETAILS
URL:https://icej.org.au/event/envision-2026-leadership-conference-asia/
ATTACH;FMTTYPE=image/png:https://icej.org.au/wp-content/uploads/2025/12/ICEJ_EVENT_CR-ENVISION-ASIA2026.png
END:VEVENT
END:VCALENDAR